BEGIN:VCALENDAR
VERSION:2.0
PRODID:-//Tukios.com/
BEGIN:VEVENT
UID:3e94906e-9fd4-4617-8e68-1872d3f5b5cd@obits.cremationsocietyofmilwaukee.com
DTSTAMP:20260421T205214Z
DTSTART:20260530T150000Z
DTEND:20260530T180000Z
SUMMARY:Celebration of Life
DESCRIPTION:Open house style with light refreshments to be served
URL:https://obits.cremationsocietyofmilwaukee.com/donald-don-hodson
LOCATION:McAuley Hall 2470 Miramar Boulevard  University Heights OH 44118
GEO:41.4920732;-81.5320014
END:VEVENT
END:VCALENDAR